BEGIN:VCALENDAR
VERSION:2.0
PRODID:icalendar-ruby
CALSCALE:GREGORIAN
METHOD:PUBLISH
BEGIN:VEVENT
DTSTAMP:20260424T011651Z
UID:84-7304569@hbfcass.org
DTSTART:20261105T003000Z
DTEND:20261105T020000Z
CLASS:PUBLIC
CREATED:20260423T194114
DESCRIPTION:Wednesday Night Bible Study
LAST-MODIFIED:20260423T194114
LOCATION:Sanctuary
SUMMARY:Wednesday Night Bible Study
URL;VALUE=URI:https://www.hbfcass.org/events/wednesday-night-bible-study/20
 26-11-04
END:VEVENT
END:VCALENDAR
