BEGIN:VCALENDAR
VERSION:2.0
PRODID:icalendar-ruby
CALSCALE:GREGORIAN
METHOD:PUBLISH
BEGIN:VEVENT
DTSTAMP:20260423T215957Z
UID:84-7301966@hbfcass.org
DTSTART:20261021T233000Z
DTEND:20261022T010000Z
CLASS:PUBLIC
CREATED:20260423T164828
DESCRIPTION:Wednesday Night Bible Study
LAST-MODIFIED:20260423T164828
LOCATION:Sanctuary
SUMMARY:Wednesday Night Bible Study
URL;VALUE=URI:https://www.hbfcass.org/events/wednesday-night-bible-study/20
 26-10-21
END:VEVENT
END:VCALENDAR
