BEGIN:VCALENDAR
VERSION:2.0
PRODID:icalendar-ruby
CALSCALE:GREGORIAN
METHOD:PUBLISH
BEGIN:VEVENT
DTSTAMP:20260423T204148Z
UID:84-7299364@hbfcass.org
DTSTART:20261014T233000Z
DTEND:20261015T010000Z
CLASS:PUBLIC
CREATED:20260423T135400
DESCRIPTION:Wednesday Night Bible Study
LAST-MODIFIED:20260423T135400
LOCATION:Sanctuary
SUMMARY:Wednesday Night Bible Study
URL;VALUE=URI:https://www.hbfcass.org/events/wednesday-night-bible-study/20
 26-10-14
END:VEVENT
END:VCALENDAR
