BEGIN:VCALENDAR
VERSION:2.0
PRODID:icalendar-ruby
CALSCALE:GREGORIAN
METHOD:PUBLISH
BEGIN:VEVENT
DTSTAMP:20260419T215407Z
UID:43-7235865@hbfcass.org
DTSTART:20241110T163000Z
DTEND:20241110T173000Z
CLASS:PUBLIC
CREATED:20260419T161843
DESCRIPTION:Join us for our main service at 10:30 where our pastor preaches
  the bible in what is called expository preaching which means to go throug
 h a book of the bible explaining the application of each verse in your lif
 e and the life of the church.\nDuring this time their are children's class
 es from infant to high school. For more information yo can go here: Kingdo
 m-Seekers
LAST-MODIFIED:20260419T161843
LOCATION:Main Sanctuary
SUMMARY:Main Worship Service
URL;VALUE=URI:https://www.hbfcass.org/events/main-worship-service/2024-11-1
 0
END:VEVENT
END:VCALENDAR
