BEGIN:VCALENDAR
VERSION:2.0
PRODID:icalendar-ruby
CALSCALE:GREGORIAN
METHOD:PUBLISH
BEGIN:VEVENT
DTSTAMP:20260420T043750Z
UID:91-7243127@hbfcass.org
DTSTART:20261017T000000Z
DTEND:20261017T014500Z
CLASS:PUBLIC
CREATED:20260419T233712
DESCRIPTION: Life Issues – Addiction Recovery Program\nMeets Fridays at 
 7PM at Heartland Baptist Fellowship\, 21203 E. 283rd \, Harrisonville MO 6
 4701  \nLife Issues is a Christ-centered addiction recovery program whose
  mission statement is: Helping\, saving\, and freeing by the Spirit of the
  Lord (based on Luke 4:18-19) Life Issues is focused on imparting God's wi
 sdom into people's heart and teaching life skills to help break the cycle 
 of sin and keep it from becoming generational.  \nThings you can expect f
 rom a Life Issues meeting:\n\nVideos presenting Bible truths to combat add
 iction(s) and overcome temptation(s)\nBig group teaching from the Bible\nS
 mall group adult support\, fellowship\, and Biblical counseling\nOne-on-on
 e sponsor led programs (available upon request)\nMonthly testimonies\nChil
 dcare\nRefreshments  \n\nThere is no charge to attend our weekly meetings
 \, or to receive counseling in small groups or one on one. Currently our c
 urriculum is free as well\, so all our program will cost you is your time 
 and your heart\, as you give it to Jesus. Feel free to contact us if you h
 ave any other questions.   \nFor more information contact by clicking on
  his name:\nSteve Fleshman \, Pastor and Founder of Life Issues (816)896-5
 621
LAST-MODIFIED:20260419T233712
LOCATION:Sanctuary
SUMMARY:Life Issues Recovery Ministry
URL;VALUE=URI:https://www.hbfcass.org/events/life-issues-recovery-ministry-
 -91/2026-10-16
END:VEVENT
END:VCALENDAR
