BEGIN:VCALENDAR
VERSION:2.0
PRODID:icalendar-ruby
CALSCALE:GREGORIAN
METHOD:PUBLISH
BEGIN:VEVENT
DTSTAMP:20260423T205727Z
UID:81-7298853@hbfcass.org
DTSTART:20261018T140000Z
DTEND:20261018T151500Z
CLASS:PUBLIC
CREATED:20260423T135359
DESCRIPTION:We believe that bible study is a crucial activity for every per
 son regardless of age. \nwe have Adult Bible Fellowships that are not gear
 ed toward age brackets or other criteria. We want each of our adults to fe
 el a sense of community in the group. Each group is led by one of the staf
 f pastors who invest in the group for fellowship and discipleship.\nyou ca
 n find our more at this link: Adult Bible Fellowships\nFor our children we
  a a class for every age from infant up to high school. you can find out m
 ore here: Kingdom-Seekers
LAST-MODIFIED:20260423T135359
LOCATION:various classrooms
SUMMARY:Adult Bible Fellowship and Sunday School
URL;VALUE=URI:https://www.hbfcass.org/events/adult-bible-fellowship-and-sun
 day-school/2026-10-18
END:VEVENT
END:VCALENDAR
